BEGIN:VCALENDAR
VERSION:2.0
PRODID:-// - ECPv6.15.16//NONSGML v1.0//EN
CALSCALE:GREGORIAN
METHOD:PUBLISH
X-ORIGINAL-URL:https://www.potzlow.de
X-WR-CALDESC:Veranstaltungen für 
REFRESH-INTERVAL;VALUE=DURATION:PT1H
X-Robots-Tag:noindex
X-PUBLISHED-TTL:PT1H
BEGIN:VTIMEZONE
TZID:Europe/Berlin
BEGIN:DAYLIGHT
TZOFFSETFROM:+0100
TZOFFSETTO:+0200
TZNAME:CEST
DTSTART:20250330T010000
END:DAYLIGHT
BEGIN:STANDARD
TZOFFSETFROM:+0200
TZOFFSETTO:+0100
TZNAME:CET
DTSTART:20251026T010000
END:STANDARD
BEGIN:DAYLIGHT
TZOFFSETFROM:+0100
TZOFFSETTO:+0200
TZNAME:CEST
DTSTART:20260329T010000
END:DAYLIGHT
BEGIN:STANDARD
TZOFFSETFROM:+0200
TZOFFSETTO:+0100
TZNAME:CET
DTSTART:20261025T010000
END:STANDARD
BEGIN:DAYLIGHT
TZOFFSETFROM:+0100
TZOFFSETTO:+0200
TZNAME:CEST
DTSTART:20270328T010000
END:DAYLIGHT
BEGIN:STANDARD
TZOFFSETFROM:+0200
TZOFFSETTO:+0100
TZNAME:CET
DTSTART:20271031T010000
END:STANDARD
END:VTIMEZONE
BEGIN:VEVENT
DTSTART;TZID=Europe/Berlin:20261003T180000
DTEND;TZID=Europe/Berlin:20261003T183000
DTSTAMP:20260423T222903
CREATED:20250411T165600Z
LAST-MODIFIED:20260218T183119Z
UID:1267-1791050400-1791052200@www.potzlow.de
SUMMARY:Fackelumzug zum Oktoberfeuer
DESCRIPTION:Wenn die Tage kürzer werden und der Herbst Einzug hält\, laden wir zum Fackelumzug ein! \nTreffpunkt ist die Festwiese in Potzlow. Von dort aus ziehen wir gemeinsam – ausgestattet mit Laternen – singend durch das Dorf in Richtung Oktoberfeuer! Begleitet von Gitarrenklängen entsteht eine ganz besondere\, stimmungsvolle Atmosphäre\, die Groß und Klein begeistert! \nDer Fackelumzug ist ein schöner Moment der Gemeinschaft: Lichter in der Dunkelheit\, bekannte Lieder und viele vertraute Gesichter machen den Weg durch das Dorf jedes Jahr zu etwas Besonderem. Am Ziel angekommen\, erwartet uns das wärmende Oktoberfeuer mit gemütlichem Beisammensein. \nWir freuen uns auf viele leuchtende Laternen und einen stimmungsvollen Abend mit Euch! \nMittelpunkt der Uckermark e.V.
URL:https://www.potzlow.de/events/fackelumzug-zum-oktoberfeuer/
LOCATION:Festwiese Potzlow\, Oberuckersee\, 17291
ATTACH;FMTTYPE=image/jpeg:https://www.potzlow.de/wp-content/uploads/2025/04/PXL_20241003_165858459-scaled-e1744390533833.jpg
ORGANIZER;CN="Mittelpunkt der Uckermark e.V.":MAILTO:info.mdu@potzlow.de
END:VEVENT
BEGIN:VEVENT
DTSTART;TZID=Europe/Berlin:20261003T180000
DTEND;TZID=Europe/Berlin:20261003T230000
DTSTAMP:20260423T222903
CREATED:20250411T165841Z
LAST-MODIFIED:20260218T183551Z
UID:1271-1791050400-1791068400@www.potzlow.de
SUMMARY:Oktoberfeuer
DESCRIPTION:Wenn der Herbst Einzug hält und die Abende kühler werden\, lodern in Potzlow wieder die Flammen unseres traditionellen Oktoberfeuers! \nIn gemütlicher Atmosphäre versammeln sich Jung und Alt rund um das wärmende Feuer\, genießen die besondere Stimmung und verbringen gemeinsam einen geselligen Abend. Das Knistern der Flammen\, herbstliche Düfte und viele gute Gespräche machen das Oktoberfeuer jedes Jahr zu einem festen Bestandteil unseres Dorflebens. \nFür das leibliche Wohl ist selbstverständlich gesorgt. \nOb mit Familie\, Freunden oder Nachbarn – kommt vorbei\, wärmt euch am Feuer und erlebt einen stimmungsvollen Herbstabend in Potzlow. \nWir freuen uns auf Euch! \nFreiwillige Feuerwehr Potzlow
URL:https://www.potzlow.de/events/oktoberfeuer/
LOCATION:Park Potzlow\, Prenzlauer Straße 33a\, Oberuckersee\, Brandenburg\, 17291
ATTACH;FMTTYPE=image/jpeg:https://www.potzlow.de/wp-content/uploads/2025/04/gd98c2b69fc3a9d8a6a980d3f00a419038a5e64eeefe811aa6f0a988124ffd30134bfe2c79ef19be0ecde398d75fecb08_1280-820091.jpg
END:VEVENT
END:VCALENDAR