BEGIN:VCALENDAR
VERSION:2.0
PRODID:-// - ECPv6.15.16//NONSGML v1.0//EN
CALSCALE:GREGORIAN
METHOD:PUBLISH
X-ORIGINAL-URL:https://www.potzlow.de
X-WR-CALDESC:Veranstaltungen für 
REFRESH-INTERVAL;VALUE=DURATION:PT1H
X-Robots-Tag:noindex
X-PUBLISHED-TTL:PT1H
BEGIN:VTIMEZONE
TZID:Europe/Berlin
BEGIN:DAYLIGHT
TZOFFSETFROM:+0100
TZOFFSETTO:+0200
TZNAME:CEST
DTSTART:20250330T010000
END:DAYLIGHT
BEGIN:STANDARD
TZOFFSETFROM:+0200
TZOFFSETTO:+0100
TZNAME:CET
DTSTART:20251026T010000
END:STANDARD
BEGIN:DAYLIGHT
TZOFFSETFROM:+0100
TZOFFSETTO:+0200
TZNAME:CEST
DTSTART:20260329T010000
END:DAYLIGHT
BEGIN:STANDARD
TZOFFSETFROM:+0200
TZOFFSETTO:+0100
TZNAME:CET
DTSTART:20261025T010000
END:STANDARD
BEGIN:DAYLIGHT
TZOFFSETFROM:+0100
TZOFFSETTO:+0200
TZNAME:CEST
DTSTART:20270328T010000
END:DAYLIGHT
BEGIN:STANDARD
TZOFFSETFROM:+0200
TZOFFSETTO:+0100
TZNAME:CET
DTSTART:20271031T010000
END:STANDARD
END:VTIMEZONE
BEGIN:VEVENT
DTSTART;TZID=Europe/Berlin:20260701T190000
DTEND;TZID=Europe/Berlin:20260701T210000
DTSTAMP:20260423T171351
CREATED:20260218T174557Z
LAST-MODIFIED:20260218T174557Z
UID:1414-1782932400-1782939600@www.potzlow.de
SUMMARY:Konzert der Heeresmusikkorps Neubrandenburg
DESCRIPTION:Ein ganz besonderes musikalisches Highlight erwartet und im Pfarrgarten Potzlow: Das Heeresmusikkorps Neubrandenburg gastiert mit einem festlichem Konzert unter freiem Himmel. \nFreuen Sie sich auf ein abwechslungsreiches Programm aus klassischer Blasmusik\, modernen Arrangements\, bekannten Melodien und mitreißenden Märschen. Das renommierte Orchester der Bundeswehr begeistert mit musikalischer Qualität\, Präzision und einer beeindruckenden Klangvielfalt. In der besonderen Atmosphäre unseres Pfarrgartens entsteht ein stimmungsvoller Konzertabend\, der Musikgenuss und Gemeinschaft auf wunderbare Weise verbindet. Ob als Liebhaber traditioneller Musik oder als Freund moderner Orchesterklänge – dieses Konzert verspricht ein Erlebnis für alle Generationen. \nFür das leibliche Wohl ist selbstverständlich gesorgt. \nWir laden herzlich zu einem unvergesslichen Abend voller Musik im Herzen von Potzlow ein! \nKirchengemeinde Potzlow-Lindenhagen
URL:https://www.potzlow.de/events/konzert-der-heeresmusikkorps-neubrandenburg/
LOCATION:Pfarrgarten Potzlow\, Kirchgasse 3\, Oberuckersee\, Brandenburg\, 17291
ORGANIZER;CN="Kirchengemeinde Potzlow-Lindenhagen":MAILTO:pfarramt-potzlow@kirche-uckermark.de
END:VEVENT
BEGIN:VEVENT
DTSTART;TZID=Europe/Berlin:20260724T200000
DTEND;TZID=Europe/Berlin:20260725T000000
DTSTAMP:20260423T171351
CREATED:20260218T175311Z
LAST-MODIFIED:20260218T175420Z
UID:1417-1784923200-1784937600@www.potzlow.de
SUMMARY:Dorffest-Disco
DESCRIPTION:Wenn in Potzlow wieder gefeiert wird\, startet unser alljährliches Dorffest traditionell am Freitagabend mit der Disco! \nZum Auftakt verwandelt sich die Festwiese in eine stimmungsvolle Partylocation: Lichter\, Beats und beste Feierlaune sorgen für den perfekten Start ins Festwochenende. Ob aktuelle Charts\, Klassiker oder echte Tanzflächen-Hits – hier kommt jeder auf seine Kosten! \nGemeinsam mit Freunden\, Nachbarn und Gästen wird gelacht\, getanzt und bis in die Abendstunden gefeiert. Die Disco am Freitag ist längst Bestandteil unseres Dorffestes und bringt Jung und Alt zusammen! \nNatürlich ist für kühle Getränke und kleine Stärkungen gesorgt! \nKommt vorbei\, bringt eure Freunde mit und feiert mit uns den Auftakt unseres Dorffestes – wir freuen uns auf einen unvergesslichen Freitagabend in Potzlow! \nMittelpunkt der Uckermark e.V.
URL:https://www.potzlow.de/events/dorffest-disco/
LOCATION:Festwiese Potzlow\, Oberuckersee\, 17291
ATTACH;FMTTYPE=image/png:https://www.potzlow.de/wp-content/uploads/2025/07/Screenshot_20250727-0805252.png
ORGANIZER;CN="Mittelpunkt der Uckermark e.V.":MAILTO:info.mdu@potzlow.de
END:VEVENT
BEGIN:VEVENT
DTSTART;TZID=Europe/Berlin:20260725T120000
DTEND;TZID=Europe/Berlin:20260726T000000
DTSTAMP:20260423T171351
CREATED:20260218T180306Z
LAST-MODIFIED:20260302T134259Z
UID:1419-1784980800-1785024000@www.potzlow.de
SUMMARY:Dorffest Potzlow
DESCRIPTION:Nach dem stimmungsvollen Auftakt am Freitag geht unser Dorffest am Samstag ab mittags in die nächste Runde – mit einem bunten Programm für die ganze Familie. \nFreut Euch auf abwechslungsreiche Unterhaltung\, Mitmachaktionen und Vorführungen. Für unsere kleinen Gäste warten Highlights\, wie Hüpfburg und Kinderschminken – hier wird gelacht\, gespielt und gestaunt. \nNatürlich ist auch kulinarisch bestens gesorgt: Herzhaftes vom Grill\, hausgemachte Suppe der 2TaktJockeys\, süße Leckereien\, sowie selbstgebackener Kuchen und Kaffee laden zum Genießen und Verweilen ein. \nAm Abend wird dann wieder gemeinsam gefeiert: Bei Tanz mit Liveband verwandelt sich die Festwiese in eine große Open-Air-Tanzfläche. Für die passende Partystimmung sorgt außerdem die Diskothek TwoBrothers mit den besten Hits für einen unvergesslichen Abschluss unseres Festwochenendes! \nKommt vorbei\, bringt Familie und Freunde mit und erlebt einen fröhlichen\, geselligen und stimmungsvollen Samstag beim Dorffest in Potzlow! \nMittelpunkt der Uckermark e.V.
URL:https://www.potzlow.de/events/dorffest-potzlow/
LOCATION:Festwiese Potzlow\, Oberuckersee\, 17291
ATTACH;FMTTYPE=image/png:https://www.potzlow.de/wp-content/uploads/2025/07/Screenshot_20250727-0805252.png
ORGANIZER;CN="Mittelpunkt der Uckermark e.V.":MAILTO:info.mdu@potzlow.de
END:VEVENT
END:VCALENDAR