BEGIN:VCALENDAR
VERSION:2.0
PRODID:-// - ECPv6.15.16//NONSGML v1.0//EN
CALSCALE:GREGORIAN
METHOD:PUBLISH
X-ORIGINAL-URL:https://www.potzlow.de
X-WR-CALDESC:Veranstaltungen für 
REFRESH-INTERVAL;VALUE=DURATION:PT1H
X-Robots-Tag:noindex
X-PUBLISHED-TTL:PT1H
BEGIN:VTIMEZONE
TZID:Europe/Berlin
BEGIN:DAYLIGHT
TZOFFSETFROM:+0100
TZOFFSETTO:+0200
TZNAME:CEST
DTSTART:20250330T010000
END:DAYLIGHT
BEGIN:STANDARD
TZOFFSETFROM:+0200
TZOFFSETTO:+0100
TZNAME:CET
DTSTART:20251026T010000
END:STANDARD
BEGIN:DAYLIGHT
TZOFFSETFROM:+0100
TZOFFSETTO:+0200
TZNAME:CEST
DTSTART:20260329T010000
END:DAYLIGHT
BEGIN:STANDARD
TZOFFSETFROM:+0200
TZOFFSETTO:+0100
TZNAME:CET
DTSTART:20261025T010000
END:STANDARD
BEGIN:DAYLIGHT
TZOFFSETFROM:+0100
TZOFFSETTO:+0200
TZNAME:CEST
DTSTART:20270328T010000
END:DAYLIGHT
BEGIN:STANDARD
TZOFFSETFROM:+0200
TZOFFSETTO:+0100
TZNAME:CET
DTSTART:20271031T010000
END:STANDARD
END:VTIMEZONE
BEGIN:VEVENT
DTSTART;TZID=Europe/Berlin:20260514T100000
DTEND;TZID=Europe/Berlin:20260514T200000
DTSTAMP:20260423T133406
CREATED:20260218T171821Z
LAST-MODIFIED:20260218T171821Z
UID:1407-1778752800-1778788800@www.potzlow.de
SUMMARY:Vati Party
DESCRIPTION:Wenn der Herrentag vor der Tür steht\, wird es auf der Festwiese Potzlow wieder gesellig\, laut und richtig gemütlich – Zeit für unsere Vati-Party! \nFreut Euch auf gute Musik\, kühle Getränke und beste Stimmung unter freiem Himmel. Ob mit dem Bollerwagen unterwegs oder direkt mit Freunden vor Ort – hier trifft sich Jung und Alt\, um gemeinsam zu feiern\, zu lachen und den Feiertag zu genießen! \nFür das leibliche Wohl ist selbstverständlich gesorgt: Deftiges vom Grill und erfrischende Getränke lassen keine Wünsche offen. Kommt vorbei\, bringt gute Laune mit und erlebt einen unvergesslichen Herrentag auf der Festwiese in Potzlow! \nWir freuen uns auf Euch! \n2TaktJockeys e.V.
URL:https://www.potzlow.de/events/vati-party/
LOCATION:Festwiese Potzlow\, Oberuckersee\, 17291
ATTACH;FMTTYPE=image/jpeg:https://www.potzlow.de/wp-content/uploads/2025/04/pexels-photo-1089930-1089930-scaled.jpg
END:VEVENT
END:VCALENDAR