BEGIN:VCALENDAR
VERSION:2.0
PRODID:-// - ECPv6.15.16//NONSGML v1.0//EN
CALSCALE:GREGORIAN
METHOD:PUBLISH
X-ORIGINAL-URL:https://www.potzlow.de
X-WR-CALDESC:Veranstaltungen für 
REFRESH-INTERVAL;VALUE=DURATION:PT1H
X-Robots-Tag:noindex
X-PUBLISHED-TTL:PT1H
BEGIN:VTIMEZONE
TZID:Europe/Berlin
BEGIN:DAYLIGHT
TZOFFSETFROM:+0100
TZOFFSETTO:+0200
TZNAME:CEST
DTSTART:20250330T010000
END:DAYLIGHT
BEGIN:STANDARD
TZOFFSETFROM:+0200
TZOFFSETTO:+0100
TZNAME:CET
DTSTART:20251026T010000
END:STANDARD
BEGIN:DAYLIGHT
TZOFFSETFROM:+0100
TZOFFSETTO:+0200
TZNAME:CEST
DTSTART:20260329T010000
END:DAYLIGHT
BEGIN:STANDARD
TZOFFSETFROM:+0200
TZOFFSETTO:+0100
TZNAME:CET
DTSTART:20261025T010000
END:STANDARD
BEGIN:DAYLIGHT
TZOFFSETFROM:+0100
TZOFFSETTO:+0200
TZNAME:CEST
DTSTART:20270328T010000
END:DAYLIGHT
BEGIN:STANDARD
TZOFFSETFROM:+0200
TZOFFSETTO:+0100
TZNAME:CET
DTSTART:20271031T010000
END:STANDARD
END:VTIMEZONE
BEGIN:VEVENT
DTSTART;VALUE=DATE:20260418
DTEND;VALUE=DATE:20260419
DTSTAMP:20260423T103848
CREATED:20250411T163546Z
LAST-MODIFIED:20260218T171212Z
UID:1258-1776470400-1776556799@www.potzlow.de
SUMMARY:Reit- und Springturnier
DESCRIPTION:Wenn sich sportlicher Ehrgeiz\, beeindruckende Pferde und echte Turnieratmosphäre begegnen\, ist es wieder Zeit für ein Reit- und Springturnier auf dem Pferdehof Ruhnau! \nOb als Teilnehmer\, Pferdesportbegeisterter oder neugieriger Gast – Sie sind herzlich zu einem abwechslungsreichen Turniertag auf dem Pferdehof Ruhnau eingeladen. \nweitere Infos: https://pferdehof-ruhnau.de/veranstaltungen/artikel/springturnier-mit-wbo-veranstaltung-im-april-2026
URL:https://www.potzlow.de/events/fahrturnier/
LOCATION:Pferdehof Ruhnau\, Potzlow-Abbau\, Oberuckersee\, Brandenburg\, 17291\, Germany
ATTACH;FMTTYPE=image/jpeg:https://www.potzlow.de/wp-content/uploads/2025/04/csm_2025-09-21_Fahrturnier_5f21d59afc.jpg
ORGANIZER;CN="Pferdehof Ruhnau":MAILTO:info@pferdehof-ruhnau.de
END:VEVENT
BEGIN:VEVENT
DTSTART;TZID=Europe/Berlin:20260405T180000
DTEND;TZID=Europe/Berlin:20260405T230000
DTSTAMP:20260423T103848
CREATED:20260218T161243Z
LAST-MODIFIED:20260218T172256Z
UID:1403-1775412000-1775430000@www.potzlow.de
SUMMARY:Osterfeuer
DESCRIPTION:Wenn die ersten Frühlingsabende wieder etwas milder werden und sich die Dorfgemeinschaft versammelt\, ist es Zeit für unser traditionelles Osterfeuer! \nGemeinsam begrüßen wir den Frühling bei lodernden Flammen\, gemütlicher Atmosphäre und netten Gesprächen. Rund um das Feuer ist für das leibliche Wohl selbstverständlich gesorgt – mit herzhaften Speisen vom Grill und passenden Getränken für Groß und Klein! \nFür die kleinen Gäste gibt es genügend Platz zum Staunen und Erleben\, während die Erwachsenen in geselliger Runde den Abend genießen können. \nDas Osterfeuer ist seit vielen Jahren ein fester Bestandteil unseres Dorflebens – ein Abend der Begegnung\, des Austauschs und der Gemeinschaft. Wir freuen uns auf viele bekannte und neue Gesichter und einen stimmungsvollen Abend am Feuer! \nMittelpunkt der Uckermark e.V.
URL:https://www.potzlow.de/events/osterfeuer/
LOCATION:Park Potzlow\, Prenzlauer Straße 33a\, Oberuckersee\, Brandenburg\, 17291
ATTACH;FMTTYPE=image/png:https://www.potzlow.de/wp-content/uploads/2026/02/file_0000000068487208b1f8fe705c2f0402.png
ORGANIZER;CN="Mittelpunkt der Uckermark e.V.":MAILTO:info.mdu@potzlow.de
END:VEVENT
END:VCALENDAR